

BEGIN:VCALENDAR
VERSION:2.0
BEGIN:VEVENT
SUMMARY:Holiday Open House 
DTSTART;TZID=:20261127T100000
DTEND;TZID=:20261127T170000
RRULE:FREQ=DAILY;UNTIL=20261130T000000
DESCRIPTION:<p>Holiday Sale to start your shopping for the holidays!!!</p>
LOCATION:
END:VEVENT
END:VCALENDAR

